BEGIN:VCALENDAR
VERSION:2.0
PRODID:-//Saint-Leger-en-Yvelines//NONSGML kigkonsult.se iCalcreator 2.30.1
 0//
CALSCALE:GREGORIAN
METHOD:PUBLISH
UID:dda30048-8885-4135-8169-f1d7432260e6
X-WR-CALNAME:iCagenda
X-WR-CALDESC:Event Management Extension for Joomla!
X-WR-RELCALID:3E26604A-50F4-4449-8B3E-E4F4932D05B5
X-WR-TIMEZONE:Europe/Paris
BEGIN:VTIMEZONE
TZID:Europe/Paris
BEGIN:STANDARD
TZNAME:CET
DTSTART:20251026T030000
TZOFFSETFROM:+0200
TZOFFSETTO:+0100
RDATE:20261025T030000
END:STANDARD
BEGIN:DAYLIGHT
TZNAME:CEST
DTSTART:20260329T020000
TZOFFSETFROM:+0100
TZOFFSETTO:+0200
RDATE:20270328T020000
END:DAYLIGHT
END:VTIMEZONE
BEGIN:VEVENT
UID:2c46914b-d4aa-465e-872f-1df3c6cd1253
DTSTAMP:20260419T125612Z
CATEGORIES:Événements à Saint-Léger
CLASS:PUBLIC
DESCRIPTION;ALTREP="CID:<FFFF__=0ABBE548DFE235B58f9e8a93d@coffeebean.com>":
 \nBonjour à tous\,\nL’Association des Parents d’Élèves de l’école Jean Mou
 lin a le plaisir de vous convier à sa première soirée Cabaret qui arrive à
  grands pas !\n\nSamedi 18 avril 2026\nÀ 20h\nMaison du Village – Saint-Lé
 ger-en-Yvelines\n\nNous vous proposons une soirée immersive dans l’univers
  du cabaret\, spécialement conçue pour un public adulte. Au programme : un
  spectacle haut en couleur accompagné d’un délicieux dîner\, le tout dans 
 une ambiance élégante et festive.\n\n Attention : chaque personne présente
  devra être munie d’un billet.\nUne tenue correcte est exigée.\n\nDERNIERE
 S PLACES DISPONIBLES\, n'hésitez plus !\nRéservation: https://www.helloass
 o.com/associations/association-de-parents-d-eleves-c-est-pas-moi/evenement
 s/soiree-cabaret \nNous espérons vous retrouver nombreux pour partager ce 
 moment convivial et festif !\nÀ très bientôt\,L’équipe de l’Association de
 s Parents d’Élèves\n\n
DTSTART:20260418T180000Z
DTEND:20260418T180000Z
GEO:+48.722603;+1.763703
LOCATION:
ORGANIZER:
SEQUENCE:1
SUMMARY:SOIREE CABARET
TRANSP:OPAQUE
URL:https://m.saint-leger-en-yvelines.fr/component/icagenda/soiree-cabaret/
 2026-04-18-20-00.html?Itemid=101
END:VEVENT
END:VCALENDAR
