BEGIN:VCALENDAR
VERSION:2.0
PRODID:-//Saint-Leger-en-Yvelines//NONSGML kigkonsult.se iCalcreator 2.30.1
 0//
CALSCALE:GREGORIAN
METHOD:PUBLISH
UID:89eed449-90d5-43a1-a8f0-5bc8a4266e1c
X-WR-CALNAME:iCagenda
X-WR-CALDESC:Event Management Extension for Joomla!
X-WR-RELCALID:3E26604A-50F4-4449-8B3E-E4F4932D05B5
X-WR-TIMEZONE:Europe/Paris
BEGIN:VTIMEZONE
TZID:Europe/Paris
BEGIN:STANDARD
TZNAME:CET
DTSTART:20251026T030000
TZOFFSETFROM:+0200
TZOFFSETTO:+0100
RDATE:20261025T030000
RDATE:20271031T030000
END:STANDARD
BEGIN:DAYLIGHT
TZNAME:CEST
DTSTART:20260329T020000
TZOFFSETFROM:+0100
TZOFFSETTO:+0200
RDATE:20270328T020000
END:DAYLIGHT
END:VTIMEZONE
BEGIN:VEVENT
UID:7ac4d0d4-fb5e-4f4c-904c-b2317689f0d2
DTSTAMP:20260421T124222Z
CATEGORIES:Événements à Saint-Léger
CLASS:PUBLIC
DESCRIPTION;ALTREP="CID:<FFFF__=0ABBE548DFE235B58f9e8a93d@coffeebean.com>":
 L'association Culture et Loisirs présente\, les 30 et 31 mai prochains\, l
 a pièce de théâtre 'Hors Cadre' à la Maison du Village de Saint Léger en Y
 velines.\nEt si tout dérapait… joyeusement ?Hors Cadre est un spectacle de
  saynètes où l’absurde et le quotidien se télescopent avec humour. D’un ma
 gasin qui vend des conversations prêtes à l’emploi à un conseil municipal 
 en pleine tempête autour d’éoliennes\, en passant par un metteur en scène 
 au bord de la crise existentielle face à des comédiens… disons\, décalés —
  chaque scène explore à sa manière les petits travers de notre société. Un
  enchaînement de situations déjantées\, grinçantes et terriblement humaine
 s\, où le cadre explose pour mieux révéler l’absurde du quotidien.\n \nNou
 s vous attendons nombreux. Les informations de réservations sont sur l'aff
 iche jointe.\n \n\n
DTSTART:20260531T150000Z
DTEND:20260531T150000Z
GEO:+48.722603;+1.763703
LOCATION:
ORGANIZER:
SEQUENCE:1
SUMMARY:'HORS CADRE' - THEATRE
TRANSP:OPAQUE
URL:https://m.saint-leger-en-yvelines.fr/agenda/hors-cadre-theatre/2026-05-
 31-17-00.html
END:VEVENT
END:VCALENDAR
